BEGIN:VCALENDAR
VERSION:2.0
PRODID:-//ChamberMaster//Event Calendar 2.0//EN
METHOD:PUBLISH
X-PUBLISHED-TTL:P3D
REFRESH-INTERVAL:P3D
CALSCALE:GREGORIAN
BEGIN:VEVENT
DTSTART:20230823T210000Z
DTEND:20230823T230000Z
X-MICROSOFT-CDO-ALLDAYEVENT:FALSE
SUMMARY:Neighborly Networking with Plymouth & Northville Chambers
DESCRIPTION:Join us for a fun evening of networking with our Plymouth Community and Northville chambers of commerce neighbors at historical Phoenix Mills. \n\nThe evenings hors d'oeuvres are graciously sponsored by our friends at Energizing Electrical Services LLC\, and a cash bar is provided by Bearded Lamb Brewing Company. You won't want to miss this special evening networking with with our neighboring Chambers\, and also having a opportunity to tour the event venue and grounds\, soaking in the rich history of Phoenix Mills. \n\n\n\nPhoenix Mill was originally built by Ford Motor Company between 1920-1922 to produce Ford's famous Model T\, and where they also produced parts for the Model A\, and parts for the U.S. WWII effort. With such a rich history and now transformed into a unique and beautiful event venue\, the location and participants are sure not to disappoint!
X-ALT-DESC;FMTTYPE=text/html:<p><span style="font-family:verdana\;"><span style="font-size:14px\;">Join&nbsp\;us&nbsp\;for&nbsp\;a&nbsp\;fun&nbsp\;evening&nbsp\;of&nbsp\;networking&nbsp\;with&nbsp\;our&nbsp\;Plymouth Community and Northville chambers of commerce&nbsp\;neighbors</span></span><span style="font-family:verdana\;"><span style="font-size:14px\;"> at historical Phoenix Mills.&nbsp\;</span></span></p>\n\n<p><span style="font-family:verdana\;"><span style="font-size:14px\;">The evenings hors d&#39\;oeuvres are graciously sponsored by our friends at Energizing Electrical Services LLC\, and a cash bar is provided by Bearded Lamb Brewing Company. You won&#39\;t want to miss this special evening networking with with our neighboring Chambers\, and also having a opportunity to tour the event venue and grounds\, soaking in the rich history of Phoenix Mills.&nbsp\;</span></span><br />\n<br />\n<span style="font-family: verdana\; font-size: 14px\;">Phoenix Mill was originally built by Ford Motor Company between 1920-1922 to produce Ford&#39\;s famous Model T\, and where they also produced parts for the Model A\, and parts for the U.S. WWII effort. With such a rich history and now transformed into a unique and beautiful event venue\, the location and participants are sure not to disappoint!</span></p>\n
LOCATION:Phoenix Mills 15000 N Edward Hines Drive Plymouth\, Michigan 48170 Entrance is behind the building Parking is available onsite
UID:e.2969.2286
SEQUENCE:3
DTSTAMP:20260420T075535Z
URL:https://business.livoniawestland.org/events/details/neighborly-networking-with-plymouth-northville-chambers-2286
END:VEVENT

END:VCALENDAR
