BEGIN:VCALENDAR
VERSION:2.0
PRODID:-//ChamberMaster//Event Calendar 2.0//EN
METHOD:PUBLISH
X-PUBLISHED-TTL:P3D
REFRESH-INTERVAL:P3D
CALSCALE:GREGORIAN
BEGIN:VEVENT
DTSTART:20230809T190000Z
DTEND:20230809T203000Z
X-MICROSOFT-CDO-ALLDAYEVENT:FALSE
SUMMARY:Inclusion Roundtable - August 2023
DESCRIPTION:Join us for our next inclusion roundtable program for 2023. This roundtable discussion will be around: "I don't see color." This is a common line used by people with good intentions\, but it is ineffective with connecting to others. It prevents us from thinking about our biases\, stereotypes\, and assumptions. Culture and race are part of someone's story\, but it\, alone\, does not tell their complete story. Join us as we talk to educator Jennifer Banks\, the director of instruction at the Washtenaw County Intermediate School District who developed inclusive classroom programs. We will discuss how the goal with inclusion and connection is to recognize everyone individual experience.\n\n \nAdmission is free but registration is required.\n\n \n\nInitial discussion available via Facebook Live on the Livonia Chamber of Commerce's page.\n\n\n\n\n\nABOUT INCLUSION ROUNDTABLES\n As part of the Livonia Chamber of Commerce's ongoing inclusion and awareness initiatives\, the Chamber is partnering with the Livonia Human Relations Commission and Masco Corporation to organize open\, informal discussions in a judgement-free environment with local residents and business people to help us engage\, increase awareness of\, and connect better with more people.\n\n\n\nCommunity-minded people of various backgrounds will lead the sessions and guide the breakout discussions that will help grow your network in business and in the community.
X-ALT-DESC;FMTTYPE=text/html:<div class="kvgmc6g5 cxmmr5t8 oygrvhab hcukyx3x c1et5uql" color:="" font-size:="" segoe="" style="overflow-wrap: break-word\; margin: 0px\; font-family: " ui=""><span style="font-family:verdana\;"><span style="font-size:14px\;"><span style="color:#000000\;"><span class="JsGRdQ">Join us for our next inclusion roundtable program for 2023. This roundtable discussion will be around:&nbsp\;</span></span></span></span><span style="font-weight: 700\; font-size: 14px\; font-family: verdana\; letter-spacing: 0.045em\;">&ldquo\;I don&rsquo\;t see color.&quot\;&nbsp\;</span><span style="font-size: 14px\; font-family: verdana\; letter-spacing: 0.045em\;">This is a common line used by people with good intentions\, but it is ineffective with connecting to others. It prevents us from thinking about our biases\, stereotypes\, and assumptions. Culture and race are part of someone&rsquo\;s story\, but it\, alone\, does not tell their complete story. Join us as we talk to educator Jennifer Banks\, the director of instruction at the Washtenaw County Intermediate School District who developed inclusive classroom programs. We will discuss how the goal with inclusion and connection is to recognize everyone individual experience.</span><br />\n&nbsp\;\n<div class="kvgmc6g5 cxmmr5t8 oygrvhab hcukyx3x c1et5uql" color:="" font-size:="" segoe="" style="overflow-wrap: break-word\; margin: 0px\; font-family: " ui=""><span style="font-family:verdana\;"><span style="font-size:14px\;"><span style="color:#000000\;"><span class="JsGRdQ">Admission is free but registration is required.</span></span></span></span></div>\n\n<p class="kvgmc6g5 cxmmr5t8 oygrvhab hcukyx3x c1et5uql" color:="" font-size:="" segoe="" style="overflow-wrap: break-word\; margin: 0px\;" ui="">&nbsp\;</p>\n\n<div class="kvgmc6g5 cxmmr5t8 oygrvhab hcukyx3x c1et5uql" color:="" font-size:="" segoe="" style="overflow-wrap: break-word\; margin: 0px\; font-family: " ui=""><span style="font-family:verdana\;"><span style="font-size:14px\;"><span style="color:#000000\;"><span class="JsGRdQ">Initial discussion available via Facebook Live on the Livonia Chamber of Commerce&#39\;s page.</span></span><br />\n<br />\n<br />\n<u style="font-family: verdana\; font-size: 14px\; color: rgb(0\, 0\, 0)\;">ABOUT INCLUSION ROUNDTABLES</u></span></span></div>\n<span style="font-family:verdana\;"><span style="font-size:14px\;"> <span style="color:#000000\;">As part of the Livonia Chamber of Commerce&rsquo\;s ongoing inclusion and awareness initiatives\, the Chamber is partnering with the Livonia Human Relations Commission and Masco Corporation to organize open\, informal discussions in a judgement-free environment with local residents and business people to help us engage\, increase awareness of\, and connect better with more people.<br />\n<br />\nCommunity-minded people of various backgrounds will lead the sessions and guide the breakout&nbsp\;discussions that will help grow your network in business and in the community.</span></span></span></div>\n
LOCATION:Masco Headquarters 17450 College Pkwy Livonia\, MI 48152
UID:e.2969.2285
SEQUENCE:3
DTSTAMP:20260420T075316Z
URL:https://business.livoniawestland.org/events/details/inclusion-roundtable-august-2023-2285
END:VEVENT

END:VCALENDAR
