BEGIN:VCALENDAR
VERSION:2.0
PRODID:-//ChamberMaster//Event Calendar 2.0//EN
METHOD:PUBLISH
X-PUBLISHED-TTL:P3D
REFRESH-INTERVAL:P3D
CALSCALE:GREGORIAN
BEGIN:VEVENT
DTSTART:20240516T120000Z
DTEND:20240516T220000Z
X-MICROSOFT-CDO-ALLDAYEVENT:FALSE
SUMMARY:2nd annual Westland Golf Classic
DESCRIPTION:Westland Community Foundation in partnership with Livonia-Westland Chamber of Commerce present the 2nd Annual Westland Classic.\n\nThe proceeds from the outing will benefit the Westland Community Foundation and Livonia-Westland Chamber of Commerce. By supporting the golf outing\, you are supporting our community! \n\nClick here to learn more about the outing and details on sponsorship opportunities.\n\nGolfer spots have sold out. Sponsorships are available through April 30.\n\n\n\nCall Beth at the Westland Foundation office at 734-495-1200 or Laura at the Chamber office at 734-427-2122 with any questions.
X-ALT-DESC;FMTTYPE=text/html:<p><span style="font-size:14px\;"><span style="font-family:verdana\;">Westland Community Foundation in partnership with Livonia-Westland Chamber of Commerce present the 2nd&nbsp\;Annual Westland Classic.</span></span></p>\n\n<p><span style="font-size:14px\;"><span style="font-family:verdana\;">The proceeds from the outing will benefit the Westland Community Foundation and Livonia-Westland Chamber of Commerce.&nbsp\;By supporting the golf outing\, you are supporting our community!&nbsp\;</span></span></p>\n\n<p><u><a href="https://chambermaster.blob.core.windows.net/userfiles/UserFiles/chambers/2969/File/WestlandGolfOutingSponsorship-GolferInformation.pdf"><span style="color:#0000FF\;"><span style="font-size:14px\;"><span style="font-family:verdana\;">Click here&nbsp\;to learn more about&nbsp\;the outing and&nbsp\;details on sponsorship opportunities.</span></span></span></a><br />\n<span style="font-size:14px\;"><span style="font-family:verdana\;">Golfer spots have sold out. Sponsorships are available through April 30.</span></span></u><br />\n<br />\n<span style="font-family: verdana\; font-size: 14px\;">Call&nbsp\;Beth&nbsp\;at the Westland Foundation office at&nbsp\;734-495-1200&nbsp\;or Laura at the&nbsp\;Chamber office at&nbsp\;734-427-2122&nbsp\;with any questions.</span></p>\n
LOCATION:Fox Hills Golf & Banquet Center 8768 N. Territorial Road Plymouth\, MI 48170
UID:e.2969.2324
SEQUENCE:3
DTSTAMP:20260420T195833Z
URL:https://business.livoniawestland.org/events/details/2nd-annual-westland-golf-classic-2324
END:VEVENT

END:VCALENDAR
