BEGIN:VCALENDAR
VERSION:2.0
PRODID:-//ChamberMaster//Event Calendar 2.0//EN
METHOD:PUBLISH
X-PUBLISHED-TTL:P3D
REFRESH-INTERVAL:P3D
CALSCALE:GREGORIAN
BEGIN:VEVENT
DTSTART:20230925T200000Z
DTEND:20230926T000000Z
X-MICROSOFT-CDO-ALLDAYEVENT:FALSE
SUMMARY:2023 Western Wayne Business Leadership Banquet
DESCRIPTION:Hundreds of the Western Wayne's business and political leaders meet for this annual influential gathering designed to connect people to initiatives and opportunities across Western Wayne County. \n\n\n\nKeynote Speaker: Lomas Brown\n\n\n	2020 College Football Hall of Fame\n	Former NFL All Pro Offensive Lineman\n	Super Bowl XXXVII Champion\n	18-Year Career (1985-1995 with Detroit Lions)\n	Current Lions Radio Broadcaster
X-ALT-DESC;FMTTYPE=text/html:<p><span style="font-size:14px\;"><span style="font-family:verdana\;">Hundreds of the Western Wayne&rsquo\;s business and political leaders meet for this annual influential gathering designed to connect people to initiatives and opportunities across Western Wayne County.&nbsp\;<br />\n<br />\nKeynote Speaker: Lomas Brown</span></span></p>\n\n<ul>\n	<li><span style="font-size:14px\;"><span style="font-family:verdana\;">2020 College Football Hall of Fame</span></span></li>\n	<li><span style="font-size:14px\;"><span style="font-family:verdana\;"><span class="WdYUQQ text-decoration-none text-strikethrough-none" span="">Former NFL All Pro Offensive Lineman</span></span></span></li>\n	<li><span style="font-size:14px\;"><span style="font-family:verdana\;"><span class="WdYUQQ text-decoration-none text-strikethrough-none" span="">Super Bowl XXXVII Champion</span></span></span></li>\n	<li><span style="font-size:14px\;"><span style="font-family:verdana\;"><span class="WdYUQQ text-decoration-none text-strikethrough-none" span="">18-Year Career (1985-1995 with Detroit Lions)</span></span></span></li>\n	<li><span style="font-size:14px\;"><span style="font-family:verdana\;">Current Lions Radio Broadcaster</span></span></li>\n</ul>\n
LOCATION:The Henry\, Autograph Collection 300 Town Center Dr Dearborn\, MI 48126
UID:e.2969.2284
SEQUENCE:3
DTSTAMP:20260420T055740Z
URL:https://business.livoniawestland.org/events/details/2023-western-wayne-business-leadership-banquet-2284
END:VEVENT

END:VCALENDAR
